BEGIN:VCALENDAR
VERSION:2.0
PRODID:-//NPO法人 D.Live - ECPv6.11.1//NONSGML v1.0//EN
CALSCALE:GREGORIAN
METHOD:PUBLISH
X-WR-CALNAME:NPO法人 D.Live
X-ORIGINAL-URL:https://www.dlive.jp
X-WR-CALDESC:NPO法人 D.Live のイベント
REFRESH-INTERVAL;VALUE=DURATION:PT1H
X-Robots-Tag:noindex
X-PUBLISHED-TTL:PT1H
BEGIN:VTIMEZONE
TZID:Asia/Tokyo
BEGIN:STANDARD
TZOFFSETFROM:+0900
TZOFFSETTO:+0900
TZNAME:JST
DTSTART:20260101T000000
END:STANDARD
END:VTIMEZONE
BEGIN:VEVENT
DTSTART;TZID=Asia/Tokyo:20260214T140000
DTEND;TZID=Asia/Tokyo:20260214T160000
DTSTAMP:20260423T143650
CREATED:20260120T083811Z
LAST-MODIFIED:20260120T083928Z
UID:10000100-1771077600-1771084800@www.dlive.jp
SUMMARY:【鹿児島/講演】登校しづらい子どもたちのいま
DESCRIPTION:2月14日（土）14時〜（13時30分受付）より、鹿児島県姶良市の姶良公民館にて講演会をおこないます。 \nテーマは、『登校しづらい子どもたちのいま』です。 \nよかったらぜひお越しください〜
URL:https://www.dlive.jp/event/250214/
LOCATION:姶良市西餅田589\, 鹿児島県\, 姶良市西餅田589
CATEGORIES:講演会
END:VEVENT
END:VCALENDAR