BEGIN:VCALENDAR
VERSION:2.0
PRODID:-//NPO法人 D.Live - ECPv6.11.1//NONSGML v1.0//EN
CALSCALE:GREGORIAN
METHOD:PUBLISH
X-WR-CALNAME:NPO法人 D.Live
X-ORIGINAL-URL:https://www.dlive.jp
X-WR-CALDESC:NPO法人 D.Live のイベント
REFRESH-INTERVAL;VALUE=DURATION:PT1H
X-Robots-Tag:noindex
X-PUBLISHED-TTL:PT1H
BEGIN:VTIMEZONE
TZID:Asia/Tokyo
BEGIN:STANDARD
TZOFFSETFROM:+0900
TZOFFSETTO:+0900
TZNAME:JST
DTSTART:20260101T000000
END:STANDARD
END:VTIMEZONE
BEGIN:VEVENT
DTSTART;TZID=Asia/Tokyo:20260227T140000
DTEND;TZID=Asia/Tokyo:20260227T160000
DTSTAMP:20260423T101917
CREATED:20260120T084611Z
LAST-MODIFIED:20260120T084611Z
UID:10000101-1772200800-1772208000@www.dlive.jp
SUMMARY:【大阪/講演】自尊感情を高めるには褒めてはダメ
DESCRIPTION:大阪で子育ての講演会おこないます。\n定員少ないので、お申し込みはお早めに。\n平日になるのですが、ご都合よろしければお越し下さいね！
URL:https://www.dlive.jp/event/250227/
LOCATION:大阪市立総合生涯学習センター\, 大阪府\, 大阪府大阪市北区梅田１丁目２−２−５００ 大阪駅前第2ビル 5・6階
END:VEVENT
END:VCALENDAR